BEGIN:VCALENDAR
VERSION:2.0
METHOD:PUBLISH
BEGIN:VEVENT
DTSTAMP:20260424T085712Z
DTSTART:20260731T120000Z
DTEND:20260731T120000Z
SUMMARY:2nd Quarter &amp; Monthly Utility Bills Due
LOCATION:35663 Fingal Line
END:VEVENT
END:VCALENDAR
