BEGIN:VCALENDAR
VERSION:2.0
METHOD:PUBLISH
BEGIN:VEVENT
DTSTAMP:20260424T090813Z
DTSTART:20261030T120000Z
DTEND:20261030T120000Z
SUMMARY:3rd Quarter &amp; Monthly Utility Bills Due
LOCATION:35663 Fingal Line
END:VEVENT
END:VCALENDAR
