BEGIN:VCALENDAR
VERSION:2.0
METHOD:PUBLISH
BEGIN:VEVENT
DTSTAMP:20260421T163819Z
DTSTART:20261225T120000Z
DTEND:20261225T120000Z
SUMMARY:Christmas Day
LOCATION:35663 Fingal Line
END:VEVENT
END:VCALENDAR
