BEGIN:VCALENDAR
VERSION:2.0
METHOD:PUBLISH
BEGIN:VEVENT
DTSTAMP:20260421T164727Z
DTSTART:20261226T120000Z
DTEND:20261226T120000Z
SUMMARY:Boxing Day
LOCATION:35663 Fingal Line
END:VEVENT
END:VCALENDAR
