BEGIN:VCALENDAR
VERSION:2.0
METHOD:PUBLISH
BEGIN:VEVENT
DTSTAMP:20260422T131640Z
DTSTART:20260422T230000Z
DTEND:20260423T000000Z
SUMMARY:Keystone Complex Committee Meeting
LOCATION:Southwold Keystone Complex
END:VEVENT
END:VCALENDAR
